BEGIN:VCALENDAR
METHOD:PUBLISH
VERSION:2.0
CALSCALE:GREGORIAN
PRODID:-//NONSGML WPForms//NONSGML Sugar Calendar Feeds v3.9.0//EN
X-WR-CALNAME:🍾 10% off bottles before the band
X-WR-CALDESC:Jessie Creek Winery
X-WR-TIMEZONE:America/New_York
BEGIN:VTIMEZONE
TZID:America/New_York
BEGIN:DAYLIGHT
TZOFFSETFROM:-0500
TZOFFSETTO:-0400
DTSTART:20250309T070000
TZNAME:EDT
END:DAYLIGHT
END:VTIMEZONE
BEGIN:VTIMEZONE
TZID:America/New_York
BEGIN:DAYLIGHT
TZOFFSETFROM:-0500
TZOFFSETTO:-0400
DTSTART:20250309T070000
TZNAME:EDT
END:DAYLIGHT
END:VTIMEZONE
BEGIN:VEVENT
SUMMARY:🍾 10% off bottles before the band
DESCRIPTION:🍾 NEW! *Cosmic Hour: 10% off bottles before the band begi
 ns!*\nOn weekends featuring the Delta Cosmonauts\, enjoy 10% off bottles
  prior to the start of the set! Grab your wine and a table so you don't 
 miss a minute.\n\nWhen the Delta Cosmonauts enter your orbit you will be
  entertained with an interstellar mix of blues\, folk\, country soul\, A
 mericana and rock classics from your AM radio dial. Musical mirth is bou
 nd to happen! You can catch them on the third Saturday of every month at
  Jessie Creek this year!\n\nBAND PAGE: facebook.com/deltacosmonauts\n\n\
 n&nbsp\;\n\n&nbsp\;\n\n🎶 LIVE MUSIC EVERY SATURDAY AND SUNDAY 👉 Ch
 eck out our full calendar of events here: 🎶
URL;VALUE=URI:https://jessiecreekwinery.com/events/cosmic-jul/
UID:urn:uuid:3efe2182-3bfd-41a0-96f5-959cd1d353e3
STATUS:CONFIRMED
ORGANIZER:
DTSTAMP:20260420T085825Z
DTSTART;TZID=America/New_York:20250719T130000
DTEND;TZID=America/New_York:20250719T160000
END:VEVENT
END:VCALENDAR